Workbook

Sheet 2026-2027-1 答疑安排
A1: 申安网络安全产业学院2026-2027学年第一学期教师答疑安排
A2: 序号 | B2: 教师 | C2: 课程 | D2: 班级 | E2: 答疑日期 | F2: 周次 | G2: 星期 | H2: 时间 | I2: 地点 | J2: 联系方式 | K2: 课时 | L2: 备注
A3: 1 | B3: 焦长义 | C3: 云安全技术与应用 | D3: 25信安2 | E3: 46309 | F3: =VLOOKUP(E3,周次!$A$1:$B$141,2,0) -> 7 | G3: =E3 -> 46309 | H3: 16:10-17:30 18:30-19:50 | I3: ZHSXL517 | J3: 18121103775 | K3: 2
A4: 2 | B4: 焦长义 | C4: 云安全技术与应用 | D4: 25信安2 | E4: 46316 | F4: =VLOOKUP(E4,周次!$A$1:$B$141,2,0) -> 8 | G4: =E4 -> 46316 | H4: 16:10-17:30 18:30-19:50 | I4: ZHSXL517 | J4: 18121103775 | K4: 2
A5: 3 | B5: 焦长义 | C5: 云安全技术与应用 | D5: 25信安2 | E5: 46330 | F5: =VLOOKUP(E5,周次!$A$1:$B$141,2,0) -> 10 | G5: =E5 -> 46330 | H5: 16:10-17:30 18:30-19:50 | I5: ZHSXL517 | J5: 18121103775 | K5: 2
A6: 4 | B6: 焦长义 | C6: 云安全技术与应用 | D6: 25信安1 | E6: 46309 | F6: =VLOOKUP(E6,周次!$A$1:$B$141,2,0) -> 7 | G6: =E6 -> 46309 | H6: 16:10-17:30 18:30-19:50 | I6: ZHSXL517 | J6: 18121103775 | K6: 2
A7: 5 | B7: 焦长义 | C7: 云安全技术与应用 | D7: 25信安1 | E7: 46316 | F7: =VLOOKUP(E7,周次!$A$1:$B$141,2,0) -> 8 | G7: =E7 -> 46316 | H7: 16:10-17:30 18:30-19:50 | I7: ZHSXL517 | J7: 18121103775 | K7: 2
A8: 6 | B8: 焦长义 | C8: 云安全技术与应用 | D8: 25信安1 | E8: 46330 | F8: =VLOOKUP(E8,周次!$A$1:$B$141,2,0) -> 10 | G8: =E8 -> 46330 | H8: 16:10-17:30 18:30-19:50 | I8: ZHSXL517 | J8: 18121103775 | K8: 2
A9: 7 | B9: 张翠翠 | C9: Python程序设计与应用 | D9: 26信安（高本）1 | E9: 46322 | F9: =VLOOKUP(E9,周次!$A$1:$B$141,2,0) -> 9 | G9: =E9 -> 46322 | H9: 16:10-17:30 18:30-19:50 | I9: ZHSXL515 | J9: 18189555472 | K9: 2
A10: 8 | B10: 张翠翠 | C10: Python程序设计 | D10: 26信安4 | E10: 46322 | F10: =VLOOKUP(E10,周次!$A$1:$B$141,2,0) -> 9 | G10: =E10 -> 46322 | H10: 16:10-17:30 18:30-19:50 | I10: ZHSXL515 | J10: 18189555472 | K10: 2
A11: 9 | B11: 张翠翠 | C11: Python程序设计与应用 | D11: 26信安（高本）1 | E11: 46343 | F11: =VLOOKUP(E11,周次!$A$1:$B$141,2,0) -> 12 | G11: =E11 -> 46343 | H11: 16:10-17:30 18:30-19:50 | I11: ZHSXL515 | J11: 18189555472 | K11: 2
A12: 10 | B12: 张翠翠 | C12: Python程序设计 | D12: 26信安4 | E12: 46343 | F12: =VLOOKUP(E12,周次!$A$1:$B$141,2,0) -> 12 | G12: =E12 -> 46343 | H12: 16:10-17:30 18:30-19:50 | I12: ZHSXL515 | J12: 18189555472 | K12: 2
A13: 11 | B13: 张翠翠 | C13: Python程序设计与应用 | D13: 26信安（高本）1 | E13: 46371 | F13: =VLOOKUP(E13,周次!$A$1:$B$141,2,0) -> 16 | G13: =E13 -> 46371 | H13: 16:10-17:30 18:30-19:50 | I13: ZHSXL515 | J13: 18189555472 | K13: 2
A14: 12 | B14: 张翠翠 | C14: Python程序设计 | D14: 26信安4 | E14: 46371 | F14: =VLOOKUP(E14,周次!$A$1:$B$141,2,0) -> 16 | G14: =E14 -> 46371 | H14: 16:10-17:30 18:30-19:50 | I14: ZHSXL515 | J14: 18189555472 | K14: 2
... A117: 115 | B117: 魏雪蕊 | C117: 商用密码应用安全性评估 | D117: 24密码2 | E117: 46310 | F117: =VLOOKUP(E117,周次!$A$1:$B$141,2,0) -> 7 | G117: =E117 -> 46310 | H117: 16:10-17:30 18:30-19:50 | I117: ZHSXL513 | J117: 13626759861 | K117: 2

Sheet 答疑记录表
A1: 申安网络安全产业学院2026-2027学年第一学期教师答疑记录表
A2: 教师 | C2: 课程
A3: 班级 | C3: 日期
A4: 时间 | B4: 16:10-17:30 18:30-19:50 | C4: 地点
A5: 答疑内容：
A6: 学生签到：
A7: 备注：

Sheet 班级
A1: 班级
A2: 22信安（贯通）1
A3: 22信安(一贯)1
A4: 24信安（高本）1
A5: 24信安1
A6: 24信安2
A7: 24信安3
A8: 24信安4
A9: 24密码1
A10: 24密码2
A11: 25信安（高本）1
A12: 25信安1
... A21: 26密码1

Sheet 课程
A1: 课程名称
A2: Python程序设计
A3: 网络安全配置
A4: 信息安全产品配置与应用
A5: Windows安全与管理
A6: WEB服务安全2
A7: WEB应用安全
A8: Python安全工具开发
A9: 概率论与数理统计
A10: 认识实习1
A11: 认识实习2
A12: LINUX系统与安全管理
... A42: 大学生职业生涯发展与规划

Sheet 周次
A1: 日期 | B1: 周次
A2: 46265 | B2: 1
A3: 46266 | B3: 1
A4: 46267 | B4: 1
A5: 46268 | B5: 1
A6: 46269 | B6: 1
A7: 46270 | B7: 1
A8: 46271 | B8: 1
A9: 46272 | B9: 2
A10: 46273 | B10: 2
A11: 46274 | B11: 2
A12: 46275 | B12: 2
A13: 46276 | B13: 2
... A141: 46404 | B141: 20
